﻿BEGIN:VCALENDAR
VERSION:2.0
PRODID:-//Lukas Familienzentrum - ECPv6.15.20//NONSGML v1.0//EN
CALSCALE:GREGORIAN
METHOD:PUBLISH
X-WR-CALNAME:Lukas Familienzentrum
X-ORIGINAL-URL:http://www.lukas-familienzentrum.de
X-WR-CALDESC:Veranstaltungen für Lukas Familienzentrum
REFRESH-INTERVAL;VALUE=DURATION:PT1H
X-Robots-Tag:noindex
X-PUBLISHED-TTL:PT1H
BEGIN:VTIMEZONE
TZID:Europe/Berlin
BEGIN:DAYLIGHT
TZOFFSETFROM:+0100
TZOFFSETTO:+0200
TZNAME:CEST
DTSTART:20220327T010000
END:DAYLIGHT
BEGIN:STANDARD
TZOFFSETFROM:+0200
TZOFFSETTO:+0100
TZNAME:CET
DTSTART:20221030T010000
END:STANDARD
BEGIN:DAYLIGHT
TZOFFSETFROM:+0100
TZOFFSETTO:+0200
TZNAME:CEST
DTSTART:20230326T010000
END:DAYLIGHT
BEGIN:STANDARD
TZOFFSETFROM:+0200
TZOFFSETTO:+0100
TZNAME:CET
DTSTART:20231029T010000
END:STANDARD
BEGIN:DAYLIGHT
TZOFFSETFROM:+0100
TZOFFSETTO:+0200
TZNAME:CEST
DTSTART:20240331T010000
END:DAYLIGHT
BEGIN:STANDARD
TZOFFSETFROM:+0200
TZOFFSETTO:+0100
TZNAME:CET
DTSTART:20241027T010000
END:STANDARD
END:VTIMEZONE
BEGIN:VEVENT
DTSTART;TZID=Europe/Berlin:20230406T103000
DTEND;TZID=Europe/Berlin:20230406T110000
DTSTAMP:20260422T150834
CREATED:20221024T110940Z
LAST-MODIFIED:20221024T110940Z
UID:3676-1680777000-1680778800@www.lukas-familienzentrum.de
SUMMARY:Osterandacht
DESCRIPTION:Pfarrer Vogt besucht uns heute im Kindergarten. Gemeinsam feiern wir mit allen Kindern eine Osterandacht in unserer Turnhalle.
URL:http://www.lukas-familienzentrum.de/event/osterandacht-8/
LOCATION:Ev. Lukas Familienzentrum\, Eichendorffstr. 73\, Sundern\, 59846\, Deutschland
END:VEVENT
BEGIN:VEVENT
DTSTART;VALUE=DATE:20230407
DTEND;VALUE=DATE:20230408
DTSTAMP:20260422T150834
CREATED:20221024T111101Z
LAST-MODIFIED:20221024T111101Z
UID:4479-1680825600-1680911999@www.lukas-familienzentrum.de
SUMMARY:Feiertag - Die KiTa bleibt geschlossen!
DESCRIPTION:
URL:http://www.lukas-familienzentrum.de/event/feiertag-die-kita-bleibt-geschlossen-8/
END:VEVENT
BEGIN:VEVENT
DTSTART;VALUE=DATE:20230410
DTEND;VALUE=DATE:20230411
DTSTAMP:20260422T150834
CREATED:20221024T111117Z
LAST-MODIFIED:20221024T111129Z
UID:4481-1681084800-1681171199@www.lukas-familienzentrum.de
SUMMARY:Feiertag - Die KiTa bleibt geschlossen!
DESCRIPTION:
URL:http://www.lukas-familienzentrum.de/event/feiertag-die-kita-bleibt-geschlossen-9/
END:VEVENT
BEGIN:VEVENT
DTSTART;TZID=Europe/Berlin:20230422T090000
DTEND;TZID=Europe/Berlin:20230422T120000
DTSTAMP:20260422T150834
CREATED:20221024T111258Z
LAST-MODIFIED:20221024T111258Z
UID:4483-1682154000-1682164800@www.lukas-familienzentrum.de
SUMMARY:Gartenaktion aller Eltern im Familienzentrum
DESCRIPTION:Organisiert durch den Elternbeirat.\nDer Elternbeirat und das Team des Lukas Familienzentrums freuen sich über zahlreiche helfende Hände!
URL:http://www.lukas-familienzentrum.de/event/gartenaktion-aller-eltern-im-familienzentrum-6/
LOCATION:Ev. Lukas Familienzentrum\, Eichendorffstr. 73\, Sundern\, 59846\, Deutschland
ORGANIZER;CN="Elternbeirat des Ev. Lukas Familienzentrums":MAILTO:elternbeirat@sundern-familienzentrum.de
END:VEVENT
BEGIN:VEVENT
DTSTART;VALUE=DATE:20230424
DTEND;VALUE=DATE:20230429
DTSTAMP:20260422T150834
CREATED:20230420T103046Z
LAST-MODIFIED:20230420T103046Z
UID:4816-1682294400-1682726399@www.lukas-familienzentrum.de
SUMMARY:Bewegungswoche im Lukas Familienzentrum
DESCRIPTION:In dieser Woche „geht es rund“. Alles steht unter dem „Fit und gesund durch Bewegung“. Jeder Tag steht dabei unter einem anderen Thema. Die Turntage finden somit gruppenübergreifend und individuell statt! Das heißt\, die Kinder entscheiden an jedem Tag selbst\, ob sie an dem Angebot in der Turnhalle teilnehmen möchten.
URL:http://www.lukas-familienzentrum.de/event/bewegungswoche-im-lukas-familienzentrum/
LOCATION:Ev. Lukas Familienzentrum\, Eichendorffstr. 73\, Sundern\, 59846\, Deutschland
END:VEVENT
BEGIN:VEVENT
DTSTART;TZID=Europe/Berlin:20230426T090000
DTEND;TZID=Europe/Berlin:20230426T110000
DTSTAMP:20260422T150834
CREATED:20230126T081819Z
LAST-MODIFIED:20230126T081819Z
UID:4704-1682499600-1682506800@www.lukas-familienzentrum.de
SUMMARY:Pfarrer Vogt besucht die Kinder
DESCRIPTION:Heute ist Pfarrer Martin Vogt im Kindergarten. In der Zeit von 09:00 – 11:00 Uhr geht er durch alle Gruppen\, gratuliert den Kindern und Erzieherinnen\, die seit seinem letzten Besuch Geburtstag hatten und erzählt den Kindern in lockerer Atmosphäre Geschichten aus der Bibel. Gerne können auch Eltern mit ins Gespräch kommen.
URL:http://www.lukas-familienzentrum.de/event/pfarrer-vogt-besucht-die-kinder-30/
LOCATION:Ev. Lukas Familienzentrum\, Eichendorffstr. 73\, Sundern\, 59846\, Deutschland
END:VEVENT
BEGIN:VEVENT
DTSTART;TZID=Europe/Berlin:20230426T153000
DTEND;TZID=Europe/Berlin:20230426T163000
DTSTAMP:20260422T150834
CREATED:20230420T103503Z
LAST-MODIFIED:20230420T103609Z
UID:4818-1682523000-1682526600@www.lukas-familienzentrum.de
SUMMARY:Zumba für Erwachsene
DESCRIPTION:  \nHeute Nachmittag sind alle Erwachsenen herzlich zum Auspowern bei einer Zumba Stunde eingeladen. Frau Greskowiak leitet als ausgebildeter Zumba-Instructor die Stunde. Sie brauchen nur mitzubringen\, evtl. ein kleines Handtuch und geeignete Hallen Turnschuhe. Getränke stehen bereit. \nFrau Greskowiak freut sich auf Sie! – Anmeldung unter 02933 – 50 76 oder über die Liste im Windfang – 
URL:http://www.lukas-familienzentrum.de/event/zumba-fuer-erwachsene/
LOCATION:Ev. Lukas Familienzentrum\, Eichendorffstr. 73\, Sundern\, 59846\, Deutschland
ATTACH;FMTTYPE=image/jpeg:http://www.lukas-familienzentrum.de/wp-content/uploads/2023/04/Zumba.jpg
END:VEVENT
BEGIN:VEVENT
DTSTART;TZID=Europe/Berlin:20230427T100000
DTEND;TZID=Europe/Berlin:20230427T120000
DTSTAMP:20260422T150834
CREATED:20221024T111559Z
LAST-MODIFIED:20221024T111559Z
UID:4485-1682589600-1682596800@www.lukas-familienzentrum.de
SUMMARY:Familienberatung im Familienzentrum
DESCRIPTION:Heute ist Frau Hofmann von der Beratungsstelle für Eltern\, Jugendliche und Kinder im Haus. Sie berät Sie gerne zu Fragen zur Erziehung oder allgemeinen Lebensthemen. Wenn Sie einen Termin möchten\, so nehmen Sie sich einen Termin von der Info-Wand im Eingangsbereich oder vereinbaren Sie einen Termin mit Frau Allmang.
URL:http://www.lukas-familienzentrum.de/event/familienberatung-im-familienzentrum-12/
LOCATION:Ev. Lukas Familienzentrum\, Eichendorffstr. 73\, Sundern\, 59846\, Deutschland
ORGANIZER;CN="Familien- und Schul-Beratungsstelle Sundern":MAILTO:eb.sundern@skf-hochsauerland.de
END:VEVENT
BEGIN:VEVENT
DTSTART;TZID=Europe/Berlin:20230428T090000
DTEND;TZID=Europe/Berlin:20230428T113000
DTSTAMP:20260422T150834
CREATED:20221024T111757Z
LAST-MODIFIED:20221024T111757Z
UID:4487-1682672400-1682681400@www.lukas-familienzentrum.de
SUMMARY:Elterncafé: "Entspannungskarussell für Eltern und Kind"
DESCRIPTION:„Jetzt beeil dich doch endlich mal!“\, wie oft am Tag sagen Sie diesen Satz zu Ihrem Kind? Wie oft fühlen Sie sich selbst unter Zeitdruck? Job\, Schule\, Kindergarten\, Arzttermine\, Hobbys: Ständig gibt es etwas zu organisieren und „abzuarbeiten“. Zeit für Ruhe und Entspannung bleibt da kaum. Doch niemand kann pausenlos aktiv sein. \nAn diesem Vormittag erleben Sie gemeinsam mit Ihrem Kind Momente der Ruhe und der Achtsamkeit. Genießen Sie und Ihr Kind wohltuende Entspannung. Vorher wollen wir\, beim Genuss eines leckeren Erfrischungsgetränkes\, uns über das Thema Entspannung unterhalten. \nAm Ende gibt es für jeden noch schöne Tipps für Zuhause!
URL:http://www.lukas-familienzentrum.de/event/elterncafe-entspannungskarussell-fuer-eltern-und-kind-2/
LOCATION:Ev. Lukas Familienzentrum\, Eichendorffstr. 73\, Sundern\, 59846\, Deutschland
END:VEVENT
END:VCALENDAR