﻿BEGIN:VCALENDAR
VERSION:2.0
PRODID:-//Lukas Familienzentrum - ECPv6.15.20//NONSGML v1.0//EN
CALSCALE:GREGORIAN
METHOD:PUBLISH
X-WR-CALNAME:Lukas Familienzentrum
X-ORIGINAL-URL:http://www.lukas-familienzentrum.de
X-WR-CALDESC:Veranstaltungen für Lukas Familienzentrum
REFRESH-INTERVAL;VALUE=DURATION:PT1H
X-Robots-Tag:noindex
X-PUBLISHED-TTL:PT1H
BEGIN:VTIMEZONE
TZID:Europe/Berlin
BEGIN:DAYLIGHT
TZOFFSETFROM:+0100
TZOFFSETTO:+0200
TZNAME:CEST
DTSTART:20250330T010000
END:DAYLIGHT
BEGIN:STANDARD
TZOFFSETFROM:+0200
TZOFFSETTO:+0100
TZNAME:CET
DTSTART:20251026T010000
END:STANDARD
BEGIN:DAYLIGHT
TZOFFSETFROM:+0100
TZOFFSETTO:+0200
TZNAME:CEST
DTSTART:20260329T010000
END:DAYLIGHT
BEGIN:STANDARD
TZOFFSETFROM:+0200
TZOFFSETTO:+0100
TZNAME:CET
DTSTART:20261025T010000
END:STANDARD
BEGIN:DAYLIGHT
TZOFFSETFROM:+0100
TZOFFSETTO:+0200
TZNAME:CEST
DTSTART:20270328T010000
END:DAYLIGHT
BEGIN:STANDARD
TZOFFSETFROM:+0200
TZOFFSETTO:+0100
TZNAME:CET
DTSTART:20271031T010000
END:STANDARD
END:VTIMEZONE
BEGIN:VEVENT
DTSTART;TZID=Europe/Berlin:20260421T100000
DTEND;TZID=Europe/Berlin:20260421T120000
DTSTAMP:20260421T220813
CREATED:20251013T131928Z
LAST-MODIFIED:20251013T131928Z
UID:6338-1776765600-1776772800@www.lukas-familienzentrum.de
SUMMARY:Familienberatung im Familienzentrum
DESCRIPTION:Im Ev. Lukas Familienzentrum finden regelmäßig offene Sprechstunden der Familien- und Schulberatungsstelle Sundern statt. \nInhalte können sein: \n\nbei Fragen des Zusammenlebens und bei Beziehungs- und Belastungsproblemen\nbei schwerer Erkrankung\, Verlust oder Tod von Familienangehörigen\ndie sich neu zusammensetzen oder allein erziehen\nbei Problemen oder Streit zu Hause\, im Kindergarten oder in der Schule\nbei Leistungsproblemen oder einem anstehenden Schulwechsel\nbei Ängsten\, Entwicklungs- und Verhaltensauffälligkeiten\n\nJeweils um 10:00 oder 11:00Uhr \nDie Beratung ist kostenfrei und anonym! \nTerminreservierung unter: 02933 – 50 76
URL:http://www.lukas-familienzentrum.de/event/familienberatung-im-familienzentrum-35/
LOCATION:Ev. Lukas Familienzentrum\, Eichendorffstr. 73\, Sundern\, 59846\, Deutschland
ATTACH;FMTTYPE=image/jpeg:http://www.lukas-familienzentrum.de/wp-content/uploads/2025/08/Familienberatung-im-Ev.-Lukas-Familienzentrum-ohne-Termine.jpg
ORGANIZER;CN="Familien- und Schul-Beratungsstelle Sundern":MAILTO:eb.sundern@skf-hochsauerland.de
END:VEVENT
END:VCALENDAR